BEGIN:VCALENDAR
VERSION:2.0
PRODID:-//217.160.0.118//NONSGML kigkonsult.se iCalcreator 2.20//
CALSCALE:GREGORIAN
METHOD:PUBLISH
X-WR-TIMEZONE:UTC
BEGIN:VEVENT
UID:event70@Asociación Libertad Emocional
DTSTAMP:20260422T180039Z
CATEGORIES:Charlas gratuitas
DESCRIPTION:Taller: Mejorar las relaciones sexuales y de pareja\nCategoría:
  Charlas gratuitas\nEnlace: https://libertademocional.es/index.php?option=
 com_jem&view=event&id=70:taller-mejorar-las-relaciones-sexuales-y-de-parej
 a\n
DTSTART:20150530T180000Z
DTEND:20150530T200000Z
LOCATION:Centro de la Armonía\,Sector Escultores 4\, local 5\,28760 Tres Ca
 ntos\,Spain
SUMMARY:Taller: Mejorar las relaciones sexuales y de pareja
URL:https://libertademocional.es/index.php?option=com_jem&view=event&id=70:
 taller-mejorar-las-relaciones-sexuales-y-de-pareja
END:VEVENT
BEGIN:VEVENT
UID:event110@Asociación Libertad Emocional
DTSTAMP:20260422T180039Z
CATEGORIES:Charlas gratuitas
DESCRIPTION:Taller de prueba de Dinámicas de Libertad Emocional: 1er trimes
 tre - Tres Cantos\nCategoría: Charlas gratuitas\nEnlace: https://libertade
 mocional.es/index.php?option=com_jem&view=event&id=110\n
DTSTART:20150929T183000Z
DTEND:20150929T203000Z
LOCATION:Centro de la Armonía\,Sector Escultores 4\, local 5\,28760 Tres Ca
 ntos\,Spain
SUMMARY:Taller de prueba de Dinámicas de Libertad Emocional: 1er trimestre 
 - Tres Cantos
URL:https://libertademocional.es/index.php?option=com_jem&view=event&id=110
END:VEVENT
BEGIN:VEVENT
UID:event109@Asociación Libertad Emocional
DTSTAMP:20260422T180039Z
CATEGORIES:Cursos
DESCRIPTION:Taller de Dinámicas de Libertad Emocional: 1er trimestre - Tres
  Cantos\nCategoría: Cursos\nEnlace: https://libertademocional.es/index.php
 ?option=com_jem&view=event&id=109\n
DTSTART:20151013T183000Z
DTEND:20151013T203000Z
LOCATION:Centro de la Armonía\,Sector Escultores 4\, local 5\,28760 Tres Ca
 ntos\,Spain
SUMMARY:Taller de Dinámicas de Libertad Emocional: 1er trimestre - Tres Can
 tos
URL:https://libertademocional.es/index.php?option=com_jem&view=event&id=109
END:VEVENT
BEGIN:VEVENT
UID:event133@Asociación Libertad Emocional
DTSTAMP:20260422T180039Z
CATEGORIES:Cursos
DESCRIPTION:Taller de Dinámicas de Libertad Emocional: 1er trimestre - Tres
  Cantos\nCategoría: Cursos\nEnlace: https://libertademocional.es/index.php
 ?option=com_jem&view=event&id=133\n
DTSTART:20151020T183000Z
DTEND:20151020T203000Z
LOCATION:Centro de la Armonía\,Sector Escultores 4\, local 5\,28760 Tres Ca
 ntos\,Spain
SUMMARY:Taller de Dinámicas de Libertad Emocional: 1er trimestre - Tres Can
 tos
URL:https://libertademocional.es/index.php?option=com_jem&view=event&id=133
END:VEVENT
BEGIN:VEVENT
UID:event135@Asociación Libertad Emocional
DTSTAMP:20260422T180039Z
CATEGORIES:Cursos
DESCRIPTION:Taller de Dinámicas de Libertad Emocional: 1er trimestre - Tres
  Cantos\nCategoría: Cursos\nEnlace: https://libertademocional.es/index.php
 ?option=com_jem&view=event&id=135\n
DTSTART:20151027T183000Z
DTEND:20151027T203000Z
LOCATION:Centro de la Armonía\,Sector Escultores 4\, local 5\,28760 Tres Ca
 ntos\,Spain
SUMMARY:Taller de Dinámicas de Libertad Emocional: 1er trimestre - Tres Can
 tos
URL:https://libertademocional.es/index.php?option=com_jem&view=event&id=135
END:VEVENT
BEGIN:VEVENT
UID:event137@Asociación Libertad Emocional
DTSTAMP:20260422T180039Z
CATEGORIES:Cursos
DESCRIPTION:Taller de Dinámicas de Libertad Emocional: 1er trimestre - Tres
  Cantos\nCategoría: Cursos\nEnlace: https://libertademocional.es/index.php
 ?option=com_jem&view=event&id=137\n
DTSTART:20151103T183000Z
DTEND:20151103T203000Z
LOCATION:Centro de la Armonía\,Sector Escultores 4\, local 5\,28760 Tres Ca
 ntos\,Spain
SUMMARY:Taller de Dinámicas de Libertad Emocional: 1er trimestre - Tres Can
 tos
URL:https://libertademocional.es/index.php?option=com_jem&view=event&id=137
END:VEVENT
BEGIN:VEVENT
UID:event140@Asociación Libertad Emocional
DTSTAMP:20260422T180039Z
CATEGORIES:Cursos
DESCRIPTION:Taller de Dinámicas de Libertad Emocional: 1er trimestre - Tres
  Cantos\nCategoría: Cursos\nEnlace: https://libertademocional.es/index.php
 ?option=com_jem&view=event&id=140\n
DTSTART:20151110T183000Z
DTEND:20151110T203000Z
LOCATION:Centro de la Armonía\,Sector Escultores 4\, local 5\,28760 Tres Ca
 ntos\,Spain
SUMMARY:Taller de Dinámicas de Libertad Emocional: 1er trimestre - Tres Can
 tos
URL:https://libertademocional.es/index.php?option=com_jem&view=event&id=140
END:VEVENT
BEGIN:VEVENT
UID:event144@Asociación Libertad Emocional
DTSTAMP:20260422T180039Z
CATEGORIES:Cursos
DESCRIPTION:Taller de Dinámicas de Libertad Emocional: 1er trimestre - Tres
  Cantos\nCategoría: Cursos\nEnlace: https://libertademocional.es/index.php
 ?option=com_jem&view=event&id=144\n
DTSTART:20151117T183000Z
DTEND:20151117T203000Z
LOCATION:Centro de la Armonía\,Sector Escultores 4\, local 5\,28760 Tres Ca
 ntos\,Spain
SUMMARY:Taller de Dinámicas de Libertad Emocional: 1er trimestre - Tres Can
 tos
URL:https://libertademocional.es/index.php?option=com_jem&view=event&id=144
END:VEVENT
BEGIN:VEVENT
UID:event146@Asociación Libertad Emocional
DTSTAMP:20260422T180039Z
CATEGORIES:Cursos
DESCRIPTION:Taller de Dinámicas de Libertad Emocional: 1er trimestre - Tres
  Cantos\nCategoría: Cursos\nEnlace: https://libertademocional.es/index.php
 ?option=com_jem&view=event&id=146\n
DTSTART:20151124T183000Z
DTEND:20151124T203000Z
LOCATION:Centro de la Armonía\,Sector Escultores 4\, local 5\,28760 Tres Ca
 ntos\,Spain
SUMMARY:Taller de Dinámicas de Libertad Emocional: 1er trimestre - Tres Can
 tos
URL:https://libertademocional.es/index.php?option=com_jem&view=event&id=146
END:VEVENT
BEGIN:VEVENT
UID:event148@Asociación Libertad Emocional
DTSTAMP:20260422T180039Z
CATEGORIES:Cursos
DESCRIPTION:Taller de Dinámicas de Libertad Emocional: 1er trimestre - Tres
  Cantos\nCategoría: Cursos\nEnlace: https://libertademocional.es/index.php
 ?option=com_jem&view=event&id=148\n
DTSTART:20151201T183000Z
DTEND:20151201T203000Z
LOCATION:Centro de la Armonía\,Sector Escultores 4\, local 5\,28760 Tres Ca
 ntos\,Spain
SUMMARY:Taller de Dinámicas de Libertad Emocional: 1er trimestre - Tres Can
 tos
URL:https://libertademocional.es/index.php?option=com_jem&view=event&id=148
END:VEVENT
BEGIN:VEVENT
UID:event152@Asociación Libertad Emocional
DTSTAMP:20260422T180039Z
CATEGORIES:Cursos
DESCRIPTION:Taller de Dinámicas de Libertad Emocional: 1er trimestre - Tres
  Cantos\nCategoría: Cursos\nEnlace: https://libertademocional.es/index.php
 ?option=com_jem&view=event&id=152\n
DTSTART:20151208T183000Z
DTEND:20151208T203000Z
LOCATION:Centro de la Armonía\,Sector Escultores 4\, local 5\,28760 Tres Ca
 ntos\,Spain
SUMMARY:Taller de Dinámicas de Libertad Emocional: 1er trimestre - Tres Can
 tos
URL:https://libertademocional.es/index.php?option=com_jem&view=event&id=152
END:VEVENT
BEGIN:VEVENT
UID:event150@Asociación Libertad Emocional
DTSTAMP:20260422T180039Z
CATEGORIES:Cursos
DESCRIPTION:Taller de Dinámicas de Libertad Emocional: 1er trimestre - Tres
  Cantos\nCategoría: Cursos\nEnlace: https://libertademocional.es/index.php
 ?option=com_jem&view=event&id=150\n
DTSTART:20151215T183000Z
DTEND:20151215T203000Z
LOCATION:Centro de la Armonía\,Sector Escultores 4\, local 5\,28760 Tres Ca
 ntos\,Spain
SUMMARY:Taller de Dinámicas de Libertad Emocional: 1er trimestre - Tres Can
 tos
URL:https://libertademocional.es/index.php?option=com_jem&view=event&id=150
END:VEVENT
BEGIN:VEVENT
UID:event151@Asociación Libertad Emocional
DTSTAMP:20260422T180039Z
CATEGORIES:Otras actividades
DESCRIPTION:Puertas abiertas del Taller de Dinámicas de Libertad Emocional
 \nCategoría: Otras actividades\nEnlace: https://libertademocional.es/index
 .php?option=com_jem&view=event&id=151\n
DTSTART:20151222T183000Z
DTEND:20151222T203000Z
LOCATION:Centro de la Armonía\,Sector Escultores 4\, local 5\,28760 Tres Ca
 ntos\,Spain
SUMMARY:Puertas abiertas del Taller de Dinámicas de Libertad Emocional
URL:https://libertademocional.es/index.php?option=com_jem&view=event&id=151
END:VEVENT
BEGIN:VEVENT
UID:event155@Asociación Libertad Emocional
DTSTAMP:20260422T180039Z
CATEGORIES:Cursos
DESCRIPTION:Taller de Dinámicas de Libertad Emocional: 2º trimestre (Autoes
 tima) - Tres Cantos\nCategoría: Cursos\nEnlace: https://libertademocional.
 es/index.php?option=com_jem&view=event&id=155\n
DTSTART:20160112T183000Z
DTEND:20160112T203000Z
LOCATION:Centro de la Armonía\,Sector Escultores 4\, local 5\,28760 Tres Ca
 ntos\,Spain
SUMMARY:Taller de Dinámicas de Libertad Emocional: 2º trimestre (Autoestima
 ) - Tres Cantos
URL:https://libertademocional.es/index.php?option=com_jem&view=event&id=155
END:VEVENT
END:VCALENDAR
